BEGIN:VCALENDAR
VERSION:2.0
PRODID:-//American Windmill Museum - ECPv6.15.20//NONSGML v1.0//EN
CALSCALE:GREGORIAN
METHOD:PUBLISH
X-WR-CALNAME:American Windmill Museum
X-ORIGINAL-URL:https://windmill.com
X-WR-CALDESC:Events for American Windmill Museum
REFRESH-INTERVAL;VALUE=DURATION:PT1H
X-Robots-Tag:noindex
X-PUBLISHED-TTL:PT1H
BEGIN:VTIMEZONE
TZID:America/Chicago
BEGIN:DAYLIGHT
TZOFFSETFROM:-0600
TZOFFSETTO:-0500
TZNAME:CDT
DTSTART:20250309T080000
END:DAYLIGHT
BEGIN:STANDARD
TZOFFSETFROM:-0500
TZOFFSETTO:-0600
TZNAME:CST
DTSTART:20251102T070000
END:STANDARD
BEGIN:DAYLIGHT
TZOFFSETFROM:-0600
TZOFFSETTO:-0500
TZNAME:CDT
DTSTART:20260308T080000
END:DAYLIGHT
BEGIN:STANDARD
TZOFFSETFROM:-0500
TZOFFSETTO:-0600
TZNAME:CST
DTSTART:20261101T070000
END:STANDARD
BEGIN:DAYLIGHT
TZOFFSETFROM:-0600
TZOFFSETTO:-0500
TZNAME:CDT
DTSTART:20270314T080000
END:DAYLIGHT
BEGIN:STANDARD
TZOFFSETFROM:-0500
TZOFFSETTO:-0600
TZNAME:CST
DTSTART:20271107T070000
END:STANDARD
BEGIN:DAYLIGHT
TZOFFSETFROM:-0600
TZOFFSETTO:-0500
TZNAME:CDT
DTSTART:20280312T080000
END:DAYLIGHT
BEGIN:STANDARD
TZOFFSETFROM:-0500
TZOFFSETTO:-0600
TZNAME:CST
DTSTART:20281105T070000
END:STANDARD
END:VTIMEZONE
BEGIN:VEVENT
DTSTART;TZID=America/Chicago:20260601T090000
DTEND;TZID=America/Chicago:20260724T160000
DTSTAMP:20260423T054821
CREATED:20250205T203251Z
LAST-MODIFIED:20260329T214832Z
UID:1822-1780304400-1784908800@windmill.com
SUMMARY:2026 Summer Break Kids Art Camps
DESCRIPTION:  \n \nCamp Details: \n\nTime: 9:00 AM – 4:00 PM daily (Drop off from 8am-9am; Pick up before 5pm)\nInstructor: Angela Veenendaal\, LISD Teacher\nLocation: The American Windmill Museum\, 1701 Canyon Lake Drive\, Lubbock\, TX\nFor children ages 5 years and up!  MUST be potty trained.\n\n Pricing: \n\nAWM Member Fee: $150.00 per week\nNon-Member Fee: $200.00 per week\nAdditional Sibling Fee: $100.00 per child\n\n How to Register: \n\nRegister and pay online below.  Payment must be made to reserve your spot!\nCall the American Windmill Museum at 806-747-8734.\nOnce payment is received\, you will receive more detailed information about the classes from the instructor.\n\nSchedule of classes: \nJune: \n\nWeek 1: June 1 – 5\nWeek 2: June 8 – 12\nWeek 3: June 15 – 19\nWeek 4: June 22 – 26\n\nJuly: \n\nWeek 5: July 13 – 17\nWeek 6: July 20 – 24\n\nImportant: Each class is limited to 25 spots\, and they fill up FAST! Be sure to complete registration and payment to guarantee your child’s place. \nPlease enable JavaScript in your browser to complete this form.Please enable JavaScript in your browser to complete this form.Primary Student's Name *FirstLastAge *Grade *School *		\n			Total Non-Member\, $150.00\n			\n		\n		Allergies / Special NeedsParent / Guardian's name *FirstLastAddress *Address Line 1Address Line 2City--- Select state ---AlabamaAlaskaArizonaArkansasCaliforniaColoradoConnecticutDelawareDistrict of ColumbiaFloridaGeorgiaHawaiiIdahoIllinoisIndianaIowaKansasKentuckyLouisianaMaineMarylandMassachusettsMichiganMinnesotaMississippiMissouriMontanaNebraskaNevadaNew HampshireNew JerseyNew MexicoNew YorkNorth CarolinaNorth DakotaOhioOklahomaOregonPennsylvaniaRhode IslandSouth CarolinaSouth DakotaTennesseeTexasUtahVermontVirginiaWashingtonWest VirginiaWisconsinWyomingStateZip CodePhone *Email *Secondary Emergency Contact and phone # *Please add the information for any siblings that may be attending\nName\, sibling #1Age\, sibling #1Grade\, sibling #1School\, sibling #1Name\, sibling #2Age\, sibling #2Grade\, sibling #2School\, sibling #2Name\, sibling #3Age\, sibling #3Grade\, sibling #3School\, sibling #3Indicate which week you are registering for\nWeek 1\, Non-Member\, $200.00RegisterWeek 1\, Member\, $150.00RegisterWeek 1\, Siblings\, $100.00 eachNo SiblingsOne SiblingTwo SiblingsThree SiblingsWeek 2\, Non-Member\, $200.00RegisterWeek 2\, Member\, $150.00RegisterWeek 2\, Siblings\, $100.00 eachNo SiblingsOne SiblingTwo SiblingsThree SiblingsWeek 3\, Non-Member\, $200.00RegisterWeek 3\, Member\, $150.00RegisterWeek 3\, Siblings\, $100.00 eachNo SiblingsOne SiblingTwo SiblingsThree SiblingsWeek 4\, Non-Member\, $200.00RegisterWeek 4\, Member\, $150.00RegisterWeek 4\, Siblings\, $100.00 eachNo SiblingsOne SiblingTwo SiblingsThree SiblingsWeek 5\, Non-Member\, $200.00RegisterWeek 5\, Member\, $150.00RegisterWeek 5\, Siblings\, $100.00 eachNo SiblingsOne SiblingTwo SiblingsThree SiblingsWeek 6\, Non-Member\, $200.00RegisterWeek 6\, Member\, $150.00RegisterWeek 6\, Siblings\, $100.00 eachNo SiblingsOne SiblingTwo SiblingsThree SiblingsPayment must be made to reserve spots.  Classes have a maximum of 25 students\, first come first served based on when payment is made.\nVerify total amount due.  If incorrect\, go back and change your selections\,\nTotal amount due$0.00Stripe Credit Card *Submit
URL:https://windmill.com/event/2026-summer-break-kids-art-camps/
LOCATION:American Windmill Museum\, 1701 Canyon Lake Drive\, Lubbock\, TX\, 79403\, United States
END:VEVENT
BEGIN:VEVENT
DTSTART;TZID=America/Chicago:20260616T100000
DTEND;TZID=America/Chicago:20260620T170000
DTSTAMP:20260423T054821
CREATED:20251012T192445Z
LAST-MODIFIED:20260327T004842Z
UID:2324-1781604000-1781974800@windmill.com
SUMMARY:2026 LMRA Summer Model Train Show
DESCRIPTION:Lubbock Model Railroad Association Summer Train Show \n… More information soon
URL:https://windmill.com/event/2026-lmra-summer-model-train-show/
END:VEVENT
BEGIN:VEVENT
DTSTART;TZID=America/Chicago:20260704T160000
DTEND;TZID=America/Chicago:20260704T230000
DTSTAMP:20260423T054821
CREATED:20251012T193314Z
LAST-MODIFIED:20251012T193314Z
UID:2328-1783180800-1783206000@windmill.com
SUMMARY:2026 July 4th
DESCRIPTION:Member’s appreciation cook-out\nClosed to the public.   More information soon …
URL:https://windmill.com/event/2026-july-4th/
END:VEVENT
BEGIN:VEVENT
DTSTART;TZID=America/Chicago:20261031T160000
DTEND;TZID=America/Chicago:20261031T200000
DTSTAMP:20260423T054821
CREATED:20260330T192619Z
LAST-MODIFIED:20260330T192642Z
UID:2460-1793462400-1793476800@windmill.com
SUMMARY:Friday\, October 31\, 2026 - Haunted House Night at the Museum
DESCRIPTION:MEMBERS ONLY INVITATION – Haunted House Night at the Museum \nOur American Windmill Museum members are invited to our Members Only Haunted House Night at the Museum!! \nA family friendly affair with lots of Treats and kid friendly Halloween decorations throughout the Museum. \nFriday\, October 31\, 2026 from 4pm-8pm \nHalloween costumes encouraged! \nFinger foods and refreshments will be provided! \n      \nFor more information on becoming a member visit: https://windmill.com/about/individual-memberships/ \nMemberships begin at $50/year\nAll Annual AWM Memberships include: \n\nAdmission for a Group of 4 to the Museum anytime it is open to the public.\nFree Admission to all AWM Hosted Events (Check out our events)\nDiscounted rate in the Museum Gift Shop (Check out our Gift Shop)\nSpecial pricing for some events hosted by other entities (Check out our events)\nReceive communication from the Museum by email regarding updates and events taking place\n\n 
URL:https://windmill.com/event/friday-october-31-2026-haunted-house-night-at-the-museum-2/
END:VEVENT
BEGIN:VEVENT
DTSTART;TZID=America/Chicago:20261117T100000
DTEND;TZID=America/Chicago:20270102T170000
DTSTAMP:20260423T054821
CREATED:20260330T191655Z
LAST-MODIFIED:20260330T191655Z
UID:2455-1794909600-1798909200@windmill.com
SUMMARY:Christmas Villages 2026
DESCRIPTION:Come tour the American Windmill Museum with all things Christmas to enjoy. You and the kids will enjoy watching the trains\, seeing the Christmas Villages\, and over 200 windmills too! The American Windmill Museum is open 10am-5pm daily; Closed on Sundays and Mondays. For more information visit the American Windmill Museum at www.windmill.com \nFor more information on becoming a member visit: https://windmill.com/about/individual-memberships/ \nMemberships begin at $50/year\nAll Annual AWM Memberships include: \n\nAdmission for a Group of 4 to the Museum anytime it is open to the public.\nFree Admission to all AWM Hosted Events (Check out our events)\nDiscounted rate in the Museum Gift Shop (Check out our Gift Shop)\nSpecial pricing for some events hosted by other entities (Check out our events)\nReceive communication from the Museum by email regarding updates and events taking place
URL:https://windmill.com/event/christmas-villages-2026/
ATTACH;FMTTYPE=image/png:https://windmill.com/wp-content/uploads/2025/10/Christmas-at-AWM.png
END:VEVENT
BEGIN:VEVENT
DTSTART;TZID=America/Chicago:20261124T100000
DTEND;TZID=America/Chicago:20261128T170000
DTSTAMP:20260423T054821
CREATED:20260330T192015Z
LAST-MODIFIED:20260330T192140Z
UID:2457-1795514400-1795885200@windmill.com
SUMMARY:2026 Fall Model Train Show
DESCRIPTION:2026 Fall Model Train Show \nTuesday\, November 24 – Saturday\, November 28\,\nClosed for Thanksgiving Day \nThe 2026 Fall Model Train Show is taking place from Tuesday\, November 24th to Saturday\, November 28th (closed for Thanksgiving Day) at the American Windmill Museum. The Lubbock Model Railroad Association (LMRA) will have a variety of model train layouts on display throughout the museum\, including the AWM’s large permanent G-scale exhibit. The event will run each day from 10:00 AM to 5:00 PM. \nAdmission is $5 per person\, with kids 2 and under and AWM members getting in for free. On Saturday\, train-themed raffle prizes will be drawn\, with tickets available all week for $1 each or 6 for $5\, and all proceeds benefiting the LMRA. Whether you’re a model train enthusiast or just looking for a fun family outing\, this event is sure to be a great experience for all ages! \n 
URL:https://windmill.com/event/2026-fall-model-train-show/
LOCATION:American Windmill Museum\, 1701 Canyon Lake Drive\, Lubbock\, TX\, 79403\, United States
END:VEVENT
END:VCALENDAR